BEGIN:VCALENDAR
VERSION:2.0
PRODID:-//Iona McGregor Fire District - ECPv6.15.20//NONSGML v1.0//EN
CALSCALE:GREGORIAN
METHOD:PUBLISH
X-WR-CALNAME:Iona McGregor Fire District
X-ORIGINAL-URL:https://ionafiredistrict.com
X-WR-CALDESC:Events for Iona McGregor Fire District
REFRESH-INTERVAL;VALUE=DURATION:PT1H
X-Robots-Tag:noindex
X-PUBLISHED-TTL:PT1H
BEGIN:VTIMEZONE
TZID:UTC
BEGIN:STANDARD
TZOFFSETFROM:+0000
TZOFFSETTO:+0000
TZNAME:UTC
DTSTART:20230101T000000
END:STANDARD
END:VTIMEZONE
BEGIN:VEVENT
DTSTART;TZID=UTC:20260415T180000
DTEND;TZID=UTC:20260415T180000
DTSTAMP:20260422T214931
CREATED:20251029T154956Z
LAST-MODIFIED:20251029T154956Z
UID:17557-1776276000-1776276000@ionafiredistrict.com
SUMMARY:Commission Meeting
DESCRIPTION:
URL:https://ionafiredistrict.com/event/commission-meeting-60-2-2-2-2-2-2-2-2-2-2-2-2-4-2-2-2/
LOCATION:Station 74\, 6061 South Pointe Blvd\, Fort Myers\, 33919\, United States
CATEGORIES:Commission Meeting
END:VEVENT
BEGIN:VEVENT
DTSTART;TZID=UTC:20260318T180000
DTEND;TZID=UTC:20260318T180000
DTSTAMP:20260422T214931
CREATED:20260116T193211Z
LAST-MODIFIED:20260116T193231Z
UID:18449-1773856800-1773856800@ionafiredistrict.com
SUMMARY:Commission Meeting
DESCRIPTION:
URL:https://ionafiredistrict.com/event/commission-meeting-60-2-2-2-2-2-2-2-2-2-2-2-2-4-2-2-2-2-2-2-2-2-2-2-2-3/
LOCATION:Station 74\, 6061 South Pointe Blvd\, Fort Myers\, 33919\, United States
CATEGORIES:Commission Meeting
END:VEVENT
BEGIN:VEVENT
DTSTART;TZID=UTC:20260218T180000
DTEND;TZID=UTC:20260218T180000
DTSTAMP:20260422T214931
CREATED:20251029T154928Z
LAST-MODIFIED:20251029T154928Z
UID:17554-1771437600-1771437600@ionafiredistrict.com
SUMMARY:Commission Meeting
DESCRIPTION:
URL:https://ionafiredistrict.com/event/commission-meeting-60-2-2-2-2-2-2-2-2-2-2-2-2-4-2-2/
LOCATION:Station 74\, 6061 South Pointe Blvd\, Fort Myers\, 33919\, United States
CATEGORIES:Commission Meeting
END:VEVENT
BEGIN:VEVENT
DTSTART;TZID=UTC:20260218T180000
DTEND;TZID=UTC:20260218T180000
DTSTAMP:20260422T214931
CREATED:20251029T154829Z
LAST-MODIFIED:20251029T154859Z
UID:17548-1771437600-1771437600@ionafiredistrict.com
SUMMARY:Commission Meeting
DESCRIPTION:
URL:https://ionafiredistrict.com/event/commission-meeting-60-2-2-2-2-2-2-2-2-2-2-2-2-4-2/
LOCATION:Station 74\, 6061 South Pointe Blvd\, Fort Myers\, 33919\, United States
CATEGORIES:Commission Meeting
END:VEVENT
BEGIN:VEVENT
DTSTART;TZID=UTC:20260121T180000
DTEND;TZID=UTC:20260121T180000
DTSTAMP:20260422T214931
CREATED:20251029T154728Z
LAST-MODIFIED:20251029T154728Z
UID:17545-1769018400-1769018400@ionafiredistrict.com
SUMMARY:Commission Meeting
DESCRIPTION:
URL:https://ionafiredistrict.com/event/commission-meeting-60-2-2-2-2-2-2-2-2-2-2-2-2-4/
LOCATION:Station 74\, 6061 South Pointe Blvd\, Fort Myers\, 33919\, United States
CATEGORIES:Commission Meeting
END:VEVENT
BEGIN:VEVENT
DTSTART;TZID=UTC:20251217T180000
DTEND;TZID=UTC:20251217T183000
DTSTAMP:20260422T214931
CREATED:20241210T214216Z
LAST-MODIFIED:20251209T154046Z
UID:11341-1765994400-1765996200@ionafiredistrict.com
SUMMARY:CANCELLED Commission Meeting: Rescheduled December Meeting (From: 12/17/25 at 6:00pm\, To: 12/10/25 at 5:00pm)
DESCRIPTION:December 10: Notice of Rescheduling Regular Board of Commissioners Meeting for December 2025\, from 12/17\, to 12/10
URL:https://ionafiredistrict.com/event/commission-meeting-60-2-2-2-2-2-2-2-2-2-2-2-2/
LOCATION:Station 74\, 6061 South Pointe Blvd\, Fort Myers\, 33919\, United States
CATEGORIES:Commission Meeting
END:VEVENT
BEGIN:VEVENT
DTSTART;TZID=UTC:20251210T170000
DTEND;TZID=UTC:20251210T180000
DTSTAMP:20260422T214931
CREATED:20251112T152240Z
LAST-MODIFIED:20251209T154110Z
UID:17706-1765386000-1765389600@ionafiredistrict.com
SUMMARY:Commission Meeting: Rescheduled December Meeting (From: 12/17/25 at 6:00pm\, To: 12/10/25 at 5:00pm)
DESCRIPTION:December 10: Notice of Rescheduling Regular Board of Commissioners Meeting for December 2025\, from 12/17\, to 12/10
URL:https://ionafiredistrict.com/event/commission-meeting-60-2-2-2-2-2-2-2-2-2-2-2-2-4-2-2-2-2-2-2-2-2-2-2-2-2/
LOCATION:Station 74\, 6061 South Pointe Blvd\, Fort Myers\, 33919\, United States
CATEGORIES:Commission Meeting
END:VEVENT
BEGIN:VEVENT
DTSTART;TZID=UTC:20251119T180000
DTEND;TZID=UTC:20251119T183000
DTSTAMP:20260422T214931
CREATED:20241210T214159Z
LAST-MODIFIED:20241210T214159Z
UID:11338-1763575200-1763577000@ionafiredistrict.com
SUMMARY:Commission Meeting
DESCRIPTION:
URL:https://ionafiredistrict.com/event/commission-meeting-60-2-2-2-2-2-2-2-2-2-2-2/
LOCATION:Station 74\, 6061 South Pointe Blvd\, Fort Myers\, 33919\, United States
CATEGORIES:Commission Meeting
END:VEVENT
BEGIN:VEVENT
DTSTART;TZID=UTC:20251015T180000
DTEND;TZID=UTC:20251015T183000
DTSTAMP:20260422T214931
CREATED:20241210T214142Z
LAST-MODIFIED:20241210T214142Z
UID:11335-1760551200-1760553000@ionafiredistrict.com
SUMMARY:Commission Meeting
DESCRIPTION:
URL:https://ionafiredistrict.com/event/commission-meeting-60-2-2-2-2-2-2-2-2-2-2/
LOCATION:Station 74\, 6061 South Pointe Blvd\, Fort Myers\, 33919\, United States
CATEGORIES:Commission Meeting
END:VEVENT
BEGIN:VEVENT
DTSTART;TZID=UTC:20250925T180000
DTEND;TZID=UTC:20250925T180000
DTSTAMP:20260422T214931
CREATED:20250919T145631Z
LAST-MODIFIED:20250919T145631Z
UID:17070-1758823200-1758823200@ionafiredistrict.com
SUMMARY:Special Meeting
DESCRIPTION:Amended Notice of Special Meeting – 9.25.25 changing time to 6 p.m
URL:https://ionafiredistrict.com/event/commission-meeting-60-2-2-2-2-2-2-2-2-2-2-2-2-3-2/
LOCATION:Station 74\, 6061 South Pointe Blvd\, Fort Myers\, 33919\, United States
CATEGORIES:Commission Meeting
END:VEVENT
BEGIN:VEVENT
DTSTART;TZID=UTC:20250925T173000
DTEND;TZID=UTC:20250925T175900
DTSTAMP:20260422T214931
CREATED:20250919T145455Z
LAST-MODIFIED:20250919T145750Z
UID:17066-1758821400-1758823140@ionafiredistrict.com
SUMMARY:Final Millage and Budget Hearing Meeting
DESCRIPTION:
URL:https://ionafiredistrict.com/event/commission-meeting-60-2-2-2-2-2-2-2-2-2-2-2-2-3/
LOCATION:Station 74\, 6061 South Pointe Blvd\, Fort Myers\, 33919\, United States
CATEGORIES:Commission Meeting
END:VEVENT
BEGIN:VEVENT
DTSTART;TZID=UTC:20250917T180000
DTEND;TZID=UTC:20250917T183000
DTSTAMP:20260422T214931
CREATED:20241210T214131Z
LAST-MODIFIED:20241210T214131Z
UID:11332-1758132000-1758133800@ionafiredistrict.com
SUMMARY:Commission Meeting
DESCRIPTION:
URL:https://ionafiredistrict.com/event/commission-meeting-60-2-2-2-2-2-2-2-2-2/
LOCATION:Station 74\, 6061 South Pointe Blvd\, Fort Myers\, 33919\, United States
CATEGORIES:Commission Meeting
END:VEVENT
BEGIN:VEVENT
DTSTART;TZID=UTC:20250917T170500
DTEND;TZID=UTC:20250917T175900
DTSTAMP:20260422T214931
CREATED:20250904T170357Z
LAST-MODIFIED:20250904T170617Z
UID:16892-1758128700-1758131940@ionafiredistrict.com
SUMMARY:Tentative Millage & Budget Hearing
DESCRIPTION:
URL:https://ionafiredistrict.com/event/commission-meeting-60-2-2-2-2-2-2-2-2-2-2-2-2-2/
LOCATION:Station 74\, 6061 South Pointe Blvd\, Fort Myers\, 33919\, United States
CATEGORIES:Commission Meeting
END:VEVENT
BEGIN:VEVENT
DTSTART;TZID=UTC:20250820T180000
DTEND;TZID=UTC:20250820T183000
DTSTAMP:20260422T214931
CREATED:20241210T214057Z
LAST-MODIFIED:20241210T214057Z
UID:11327-1755712800-1755714600@ionafiredistrict.com
SUMMARY:Commission Meeting
DESCRIPTION:
URL:https://ionafiredistrict.com/event/commission-meeting-60-2-2-2-2-2-2-2-2/
LOCATION:Station 74\, 6061 South Pointe Blvd\, Fort Myers\, 33919\, United States
CATEGORIES:Commission Meeting
END:VEVENT
BEGIN:VEVENT
DTSTART;TZID=UTC:20250820T173000
DTEND;TZID=UTC:20250820T175900
DTSTAMP:20260422T214931
CREATED:20250904T170747Z
LAST-MODIFIED:20250904T170747Z
UID:16899-1755711000-1755712740@ionafiredistrict.com
SUMMARY:Budget Workshop
DESCRIPTION:
URL:https://ionafiredistrict.com/event/commission-meeting-60-2-2-2-2-2-2-2-2-3/
LOCATION:Station 74\, 6061 South Pointe Blvd\, Fort Myers\, 33919\, United States
CATEGORIES:Commission Meeting
END:VEVENT
BEGIN:VEVENT
DTSTART;TZID=UTC:20250716T180000
DTEND;TZID=UTC:20250716T183000
DTSTAMP:20260422T214931
CREATED:20241210T214039Z
LAST-MODIFIED:20241210T214039Z
UID:11323-1752688800-1752690600@ionafiredistrict.com
SUMMARY:Commission Meeting
DESCRIPTION:
URL:https://ionafiredistrict.com/event/commission-meeting-60-2-2-2-2-2-2-2/
LOCATION:Station 74\, 6061 South Pointe Blvd\, Fort Myers\, 33919\, United States
CATEGORIES:Commission Meeting
END:VEVENT
BEGIN:VEVENT
DTSTART;TZID=UTC:20250625T180000
DTEND;TZID=UTC:20250625T183000
DTSTAMP:20260422T214931
CREATED:20241210T214013Z
LAST-MODIFIED:20241210T214013Z
UID:11320-1750874400-1750876200@ionafiredistrict.com
SUMMARY:Commission Meeting
DESCRIPTION:
URL:https://ionafiredistrict.com/event/commission-meeting-60-2-2-2-2-2-2/
LOCATION:Station 74\, 6061 South Pointe Blvd\, Fort Myers\, 33919\, United States
CATEGORIES:Commission Meeting
END:VEVENT
BEGIN:VEVENT
DTSTART;TZID=UTC:20250528T180000
DTEND;TZID=UTC:20250528T183000
DTSTAMP:20260422T214931
CREATED:20241210T213958Z
LAST-MODIFIED:20250428T192937Z
UID:11317-1748455200-1748457000@ionafiredistrict.com
SUMMARY:Commission Meeting
DESCRIPTION:
URL:https://ionafiredistrict.com/event/commission-meeting-60-2-2-2-2-2/
LOCATION:Station 74\, 6061 South Pointe Blvd\, Fort Myers\, 33919\, United States
CATEGORIES:Commission Meeting
END:VEVENT
BEGIN:VEVENT
DTSTART;TZID=UTC:20250416T180000
DTEND;TZID=UTC:20250416T183000
DTSTAMP:20260422T214931
CREATED:20241210T213941Z
LAST-MODIFIED:20241210T213941Z
UID:11314-1744826400-1744828200@ionafiredistrict.com
SUMMARY:Commission Meeting
DESCRIPTION:
URL:https://ionafiredistrict.com/event/commission-meeting-60-2-2-2-2/
LOCATION:Station 74\, 6061 South Pointe Blvd\, Fort Myers\, 33919\, United States
CATEGORIES:Commission Meeting
END:VEVENT
BEGIN:VEVENT
DTSTART;TZID=UTC:20250319T180000
DTEND;TZID=UTC:20250319T183000
DTSTAMP:20260422T214931
CREATED:20241210T213928Z
LAST-MODIFIED:20241210T213928Z
UID:11311-1742407200-1742409000@ionafiredistrict.com
SUMMARY:Commission Meeting
DESCRIPTION:
URL:https://ionafiredistrict.com/event/commission-meeting-60-2-2-2/
LOCATION:Station 74\, 6061 South Pointe Blvd\, Fort Myers\, 33919\, United States
CATEGORIES:Commission Meeting
END:VEVENT
BEGIN:VEVENT
DTSTART;TZID=UTC:20250220T180000
DTEND;TZID=UTC:20250220T180000
DTSTAMP:20260422T214931
CREATED:20250130T152229Z
LAST-MODIFIED:20250130T152304Z
UID:13087-1740074400-1740074400@ionafiredistrict.com
SUMMARY:Community Forum
DESCRIPTION:
URL:https://ionafiredistrict.com/event/community-forum/
LOCATION:Station 74\, 6061 South Pointe Blvd\, Fort Myers\, 33919\, United States
CATEGORIES:Community Events
END:VEVENT
BEGIN:VEVENT
DTSTART;TZID=UTC:20250219T180000
DTEND;TZID=UTC:20250219T183000
DTSTAMP:20260422T214931
CREATED:20241210T213916Z
LAST-MODIFIED:20250128T151958Z
UID:11308-1739988000-1739989800@ionafiredistrict.com
SUMMARY:Commission Meeting-CANCELLED
DESCRIPTION:February 19\, 2025 Meeting has been cancelled.
URL:https://ionafiredistrict.com/event/commission-meeting-60-2-2/
LOCATION:Station 74\, 6061 South Pointe Blvd\, Fort Myers\, 33919\, United States
CATEGORIES:Commission Meeting
END:VEVENT
BEGIN:VEVENT
DTSTART;TZID=UTC:20250115T180000
DTEND;TZID=UTC:20250115T183000
DTSTAMP:20260422T214931
CREATED:20241210T213859Z
LAST-MODIFIED:20241210T213859Z
UID:11305-1736964000-1736965800@ionafiredistrict.com
SUMMARY:Commission Meeting
DESCRIPTION:
URL:https://ionafiredistrict.com/event/commission-meeting-60-2/
LOCATION:Station 74\, 6061 South Pointe Blvd\, Fort Myers\, 33919\, United States
CATEGORIES:Commission Meeting
END:VEVENT
BEGIN:VEVENT
DTSTART;TZID=UTC:20241218T180000
DTEND;TZID=UTC:20241218T183000
DTSTAMP:20260422T214931
CREATED:20231019T173240Z
LAST-MODIFIED:20241210T213814Z
UID:7548-1734544800-1734546600@ionafiredistrict.com
SUMMARY:Commission Meeting Canceled
DESCRIPTION:
URL:https://ionafiredistrict.com/event/commission-meeting-60/
LOCATION:Station 74\, 6061 South Pointe Blvd\, Fort Myers\, 33919\, United States
CATEGORIES:Commission Meeting
END:VEVENT
BEGIN:VEVENT
DTSTART;TZID=UTC:20241120T180000
DTEND;TZID=UTC:20241120T183000
DTSTAMP:20260422T214931
CREATED:20231019T173210Z
LAST-MODIFIED:20231019T173210Z
UID:7545-1732125600-1732127400@ionafiredistrict.com
SUMMARY:Commission Meeting
DESCRIPTION:
URL:https://ionafiredistrict.com/event/commission-meeting-59/
LOCATION:Station 74\, 6061 South Pointe Blvd\, Fort Myers\, 33919\, United States
END:VEVENT
BEGIN:VEVENT
DTSTART;TZID=UTC:20241016T180000
DTEND;TZID=UTC:20241016T183000
DTSTAMP:20260422T214931
CREATED:20231019T173140Z
LAST-MODIFIED:20231019T173140Z
UID:7542-1729101600-1729103400@ionafiredistrict.com
SUMMARY:Commission Meeting
DESCRIPTION:
URL:https://ionafiredistrict.com/event/commission-meeting-58/
LOCATION:Station 74\, 6061 South Pointe Blvd\, Fort Myers\, 33919\, United States
END:VEVENT
BEGIN:VEVENT
DTSTART;TZID=UTC:20240918T180000
DTEND;TZID=UTC:20240918T183000
DTSTAMP:20260422T214931
CREATED:20231019T173109Z
LAST-MODIFIED:20231019T173109Z
UID:7539-1726682400-1726684200@ionafiredistrict.com
SUMMARY:Commission Meeting
DESCRIPTION:
URL:https://ionafiredistrict.com/event/commission-meeting-57/
LOCATION:Station 74\, 6061 South Pointe Blvd\, Fort Myers\, 33919\, United States
END:VEVENT
BEGIN:VEVENT
DTSTART;TZID=UTC:20240821T180000
DTEND;TZID=UTC:20240821T183000
DTSTAMP:20260422T214931
CREATED:20231019T173038Z
LAST-MODIFIED:20231019T173038Z
UID:7536-1724263200-1724265000@ionafiredistrict.com
SUMMARY:Commission Meeting
DESCRIPTION:
URL:https://ionafiredistrict.com/event/commission-meeting-56/
LOCATION:Station 74\, 6061 South Pointe Blvd\, Fort Myers\, 33919\, United States
END:VEVENT
BEGIN:VEVENT
DTSTART;TZID=UTC:20240717T180000
DTEND;TZID=UTC:20240717T183000
DTSTAMP:20260422T214931
CREATED:20231019T172959Z
LAST-MODIFIED:20231019T172959Z
UID:7533-1721239200-1721241000@ionafiredistrict.com
SUMMARY:Commission Meeting
DESCRIPTION:
URL:https://ionafiredistrict.com/event/commission-meeting-55/
LOCATION:Station 74\, 6061 South Pointe Blvd\, Fort Myers\, 33919\, United States
END:VEVENT
BEGIN:VEVENT
DTSTART;TZID=UTC:20240626T180000
DTEND;TZID=UTC:20240626T183000
DTSTAMP:20260422T214931
CREATED:20231019T172918Z
LAST-MODIFIED:20231019T172918Z
UID:7530-1719424800-1719426600@ionafiredistrict.com
SUMMARY:Commission Meeting
DESCRIPTION:
URL:https://ionafiredistrict.com/event/commission-meeting-54/
LOCATION:Station 74\, 6061 South Pointe Blvd\, Fort Myers\, 33919\, United States
END:VEVENT
END:VCALENDAR